BEGIN:VCALENDAR
VERSION:2.0
PRODID:-//Smyrna International Ministry - ECPv4.5.8//NONSGML v1.0//EN
CALSCALE:GREGORIAN
METHOD:PUBLISH
X-WR-CALNAME:Smyrna International Ministry
X-ORIGINAL-URL:http://www.smyrnainternational.com
X-WR-CALDESC:Events for Smyrna International Ministry
BEGIN:VEVENT
DTSTART;TZID=UTC+1:20180406T180000
DTEND;TZID=UTC+1:20180406T203000
DTSTAMP:20260421T052852
CREATED:20180228T192704Z
LAST-MODIFIED:20180228T192704Z
UID:8177-1523037600-1523046600@www.smyrnainternational.com
SUMMARY:A House of Prayer
DESCRIPTION:We start off together with all the units of Smyrna seeking the phase of God from 18:00-19:00. \nWe extend the moment continuing to pray for self\, family\, friends and the world at large from 19:00-20:30. \nCome and stand in the gap. \nIf you have any prayer requests you can email them as well to: \nupperroomsmyrna@gmail.com \n
URL:http://www.smyrnainternational.com/event/a-house-of-prayer-17/
LOCATION:Haga Kyrkogata 2\, Göteborg\, 41507\, Sweden
END:VEVENT
END:VCALENDAR