BEGIN:VCALENDAR
VERSION:2.0
PRODID:-//Smyrna International Ministry - ECPv4.5.8//NONSGML v1.0//EN
CALSCALE:GREGORIAN
METHOD:PUBLISH
X-WR-CALNAME:Smyrna International Ministry
X-ORIGINAL-URL:http://www.smyrnainternational.com
X-WR-CALDESC:Events for Smyrna International Ministry
BEGIN:VEVENT
DTSTART;TZID=UTC+1:20180314T190000
DTEND;TZID=UTC+1:20180314T203000
DTSTAMP:20260421T064618
CREATED:20180228T193401Z
LAST-MODIFIED:20180228T193401Z
UID:8192-1521054000-1521059400@www.smyrnainternational.com
SUMMARY:Bible Study
DESCRIPTION:
URL:http://www.smyrnainternational.com/event/bible-study-2/
LOCATION:Smyrnakyrkan\, Haga Kyrkogata 2\, Göteborg\, 41123\, Sweden
ORGANIZER;CN="Mark%20Beckenham":MAILTO:mark.beckenham@smyrna.se
END:VEVENT
END:VCALENDAR