BEGIN:VCALENDAR
VERSION:2.0
PRODID:-//Smyrna International Ministry - ECPv4.5.8//NONSGML v1.0//EN
CALSCALE:GREGORIAN
METHOD:PUBLISH
X-WR-CALNAME:Smyrna International Ministry
X-ORIGINAL-URL:http://www.smyrnainternational.com
X-WR-CALDESC:Events for Smyrna International Ministry
BEGIN:VEVENT
DTSTART;TZID=UTC+1:20170604T150000
DTEND;TZID=UTC+1:20170604T170000
DTSTAMP:20260421T233124
CREATED:20170501T183246Z
LAST-MODIFIED:20170501T183250Z
UID:7299-1496588400-1496595600@www.smyrnainternational.com
SUMMARY:Celebration
DESCRIPTION:Sunday Service in English. \nSong\, a word from God\, prayer\,  mingle and much more! \nPreacher: Mark Beckenham (Pastor) \n
URL:http://www.smyrnainternational.com/event/celebration-149/
LOCATION:Sweden
ORGANIZER;CN="Mark%20Beckenham":MAILTO:mark.beckenham@smyrna.se
END:VEVENT
END:VCALENDAR