BEGIN:VCALENDAR
VERSION:2.0
PRODID:-//Smyrna International Ministry - ECPv4.5.8//NONSGML v1.0//EN
CALSCALE:GREGORIAN
METHOD:PUBLISH
X-WR-CALNAME:Smyrna International Ministry
X-ORIGINAL-URL:http://www.smyrnainternational.com
X-WR-CALDESC:Events for Smyrna International Ministry
BEGIN:VEVENT
DTSTART;VALUE=DATE:20170611
DTEND;VALUE=DATE:20170611
DTSTAMP:20260421T221923
CREATED:20170602T181614Z
LAST-MODIFIED:20170603T075237Z
UID:7365-1497139200-1497225599@www.smyrnainternational.com
SUMMARY:Celebration
DESCRIPTION:NO SERVICE @ SMYRNA!!!!! \nWe will have our annual Summer Party at Jernholmen\n-Church service\n-Pot-luck meal (everyone brings something to eat and share)\n-Activities for all ages \n\nDo you need a bus ride from Smyrna?\n40kr per person\n100kr per family \nLeaves Smyrna at 11.00\nBack at Smyrna at 17.15 \nRegister for bus ride by sending an email at the latest June 5th to\nanmalan@smyrna.se\nwith the following details:\nName\nNumber of passengers\nContact phone number \nor by clicking on the link below \nhttp://www.smyrnainternational.com/…/Summer-Party-at-Jernho… \n\n
URL:http://www.smyrnainternational.com/event/celebration-151/
ORGANIZER;CN="Mark%20Beckenham":MAILTO:mark.beckenham@smyrna.se
END:VEVENT
END:VCALENDAR