BEGIN:VCALENDAR
VERSION:2.0
PRODID:-//Smyrna International Ministry - ECPv4.5.8//NONSGML v1.0//EN
CALSCALE:GREGORIAN
METHOD:PUBLISH
X-WR-CALNAME:Smyrna International Ministry
X-ORIGINAL-URL:http://www.smyrnainternational.com
X-WR-CALDESC:Events for Smyrna International Ministry
BEGIN:VEVENT
DTSTART;TZID=UTC+1:20170618T150000
DTEND;TZID=UTC+1:20170618T170000
DTSTAMP:20260421T221952
CREATED:20170615T172300Z
LAST-MODIFIED:20170615T172312Z
UID:7497-1497798000-1497805200@www.smyrnainternational.com
SUMMARY:Celebration
DESCRIPTION:\nSunday Service in English. \nSong\, a word from God\, prayer\,  mingle and much more! \nPreacher: Belton Mubiru (Pastor) \n\n
URL:http://www.smyrnainternational.com/event/celebration-152/
ORGANIZER;CN="Mark%20Beckenham":MAILTO:mark.beckenham@smyrna.se
END:VEVENT
END:VCALENDAR