BEGIN:VCALENDAR
VERSION:2.0
PRODID:-//Smyrna International Ministry - ECPv4.5.8//NONSGML v1.0//EN
CALSCALE:GREGORIAN
METHOD:PUBLISH
X-WR-CALNAME:Smyrna International Ministry
X-ORIGINAL-URL:http://www.smyrnainternational.com
X-WR-CALDESC:Events for Smyrna International Ministry
BEGIN:VEVENT
DTSTART;TZID=UTC+1:20190210T150000
DTEND;TZID=UTC+1:20190210T170000
DTSTAMP:20260420T152608
CREATED:20190204T164652Z
LAST-MODIFIED:20190204T164652Z
UID:8937-1549810800-1549818000@www.smyrnainternational.com
SUMMARY:Celebration
DESCRIPTION:Sunday Service in English. \nSong\, children’s ministry\, a word from God\, prayer\, mingle and much more! \nPreacher: Belton \nTheme: \n
URL:http://www.smyrnainternational.com/event/celebration-226/
ORGANIZER;CN="Mark%20Beckenham":MAILTO:mark.beckenham@smyrna.se
END:VEVENT
END:VCALENDAR