BEGIN:VCALENDAR
VERSION:2.0
PRODID:-//Smyrna International Ministry - ECPv4.5.8//NONSGML v1.0//EN
CALSCALE:GREGORIAN
METHOD:PUBLISH
X-WR-CALNAME:Smyrna International Ministry
X-ORIGINAL-URL:http://www.smyrnainternational.com
X-WR-CALDESC:Events for Smyrna International Ministry
BEGIN:VEVENT
DTSTART;TZID=UTC+1:20190602T150000
DTEND;TZID=UTC+1:20190602T170000
DTSTAMP:20260420T064713
CREATED:20190519T224544Z
LAST-MODIFIED:20190519T224550Z
UID:9094-1559487600-1559494800@www.smyrnainternational.com
SUMMARY:Celebration
DESCRIPTION:Sunday Service in English. \nHoly Communion\, Song\, children’s ministry\, a word from God\, prayer\, mingle and much more! \nPreacher: \nTheme: \n
URL:http://www.smyrnainternational.com/event/celebration-238/
END:VEVENT
END:VCALENDAR