BEGIN:VCALENDAR
VERSION:2.0
PRODID:-//Smyrna International Ministry - ECPv4.5.8//NONSGML v1.0//EN
CALSCALE:GREGORIAN
METHOD:PUBLISH
X-WR-CALNAME:Smyrna International Ministry
X-ORIGINAL-URL:http://www.smyrnainternational.com
X-WR-CALDESC:Events for Smyrna International Ministry
BEGIN:VEVENT
DTSTART;TZID=UTC+1:20190526T150000
DTEND;TZID=UTC+1:20190526T170000
DTSTAMP:20260420T081834
CREATED:20190519T224738Z
LAST-MODIFIED:20190523T180926Z
UID:9096-1558882800-1558890000@www.smyrnainternational.com
SUMMARY:Celebration
DESCRIPTION:Sunday Service in English. \nMothers’ Day Special\, song\, children’s ministry\, a word from God\, prayer\, mingle and much more! \nPreacher: Mark Beckenham (Pastor) \nTheme: \n
URL:http://www.smyrnainternational.com/event/celebration-239/
END:VEVENT
END:VCALENDAR