BEGIN:VCALENDAR
VERSION:2.0
PRODID:-//Smyrna International Ministry - ECPv4.5.8//NONSGML v1.0//EN
CALSCALE:GREGORIAN
METHOD:PUBLISH
X-WR-CALNAME:Smyrna International Ministry
X-ORIGINAL-URL:http://www.smyrnainternational.com
X-WR-CALDESC:Events for Smyrna International Ministry
BEGIN:VEVENT
DTSTART;TZID=UTC+1:20190728T150000
DTEND;TZID=UTC+1:20190728T170000
DTSTAMP:20260420T051736
CREATED:20190705T103906Z
LAST-MODIFIED:20190705T103911Z
UID:9175-1564326000-1564333200@www.smyrnainternational.com
SUMMARY:Celebration
DESCRIPTION:Sunday Service in English. \nSong\, children’s ministry\, a word from God\, prayer\, mingle and much more! \nPreacher: Guest Speaker (India) \n
URL:http://www.smyrnainternational.com/event/celebration-250/
END:VEVENT
END:VCALENDAR