BEGIN:VCALENDAR
VERSION:2.0
PRODID:-//Smyrna International Ministry - ECPv4.5.8//NONSGML v1.0//EN
CALSCALE:GREGORIAN
METHOD:PUBLISH
X-WR-CALNAME:Smyrna International Ministry
X-ORIGINAL-URL:http://www.smyrnainternational.com
X-WR-CALDESC:Events for Smyrna International Ministry
BEGIN:VEVENT
DTSTART;TZID=UTC+1:20190908T150000
DTEND;TZID=UTC+1:20190908T170000
DTSTAMP:20260420T021830
CREATED:20190902T174912Z
LAST-MODIFIED:20190902T174912Z
UID:9281-1567954800-1567962000@www.smyrnainternational.com
SUMMARY:Celebration
DESCRIPTION:Sunday Service in English. \nSong\, children’s ministry\, a word from God\, prayer\, mingle and much more! \nPreacher: William Nsubuga \nTheme: We are Building (Part 2) \n
URL:http://www.smyrnainternational.com/event/celebration-256/
ORGANIZER;CN="Mark%20Beckenham":MAILTO:mark.beckenham@smyrna.se
END:VEVENT
END:VCALENDAR