BEGIN:VCALENDAR
VERSION:2.0
PRODID:-//Smyrna International Ministry - ECPv4.5.8//NONSGML v1.0//EN
CALSCALE:GREGORIAN
METHOD:PUBLISH
X-WR-CALNAME:Smyrna International Ministry
X-ORIGINAL-URL:http://www.smyrnainternational.com
X-WR-CALDESC:Events for Smyrna International Ministry
BEGIN:VEVENT
DTSTART;TZID=UTC+1:20191208T150000
DTEND;TZID=UTC+1:20191208T170000
DTSTAMP:20260419T221143
CREATED:20191121T205200Z
LAST-MODIFIED:20191205T153734Z
UID:9463-1575817200-1575824400@www.smyrnainternational.com
SUMMARY:Celebration
DESCRIPTION:Sunday Service in English. \nSong\, children’s ministry\, a word from God\, prayer\, mingle and much more! \nPreacher: Mark Beckenham (Pastor) \nSeries: Good things come to those who wait \nPart 3: The arrival of The Kingdom \n
URL:http://www.smyrnainternational.com/event/celebration-267/
ORGANIZER;CN="Mark%20Beckenham":MAILTO:mark.beckenham@smyrna.se
END:VEVENT
END:VCALENDAR