BEGIN:VCALENDAR
VERSION:2.0
PRODID:-//Smyrna International Ministry - ECPv4.5.8//NONSGML v1.0//EN
CALSCALE:GREGORIAN
METHOD:PUBLISH
X-WR-CALNAME:Smyrna International Ministry
X-ORIGINAL-URL:http://www.smyrnainternational.com
X-WR-CALDESC:Events for Smyrna International Ministry
BEGIN:VEVENT
DTSTART;TZID=UTC+1:20191229T150000
DTEND;TZID=UTC+1:20191229T163000
DTSTAMP:20260419T232934
CREATED:20191226T230140Z
LAST-MODIFIED:20191226T230857Z
UID:9552-1577631600-1577637000@www.smyrnainternational.com
SUMMARY:Celebration
DESCRIPTION:Sunday Service in English. \nSong\, a word from God\, prayer and mingle! \nPreacher: Mark Beckenham \nSeries: Good things come to those who wait \nPart 6: The return of The King \n
URL:http://www.smyrnainternational.com/event/celebration-269/
END:VEVENT
END:VCALENDAR