BEGIN:VCALENDAR
VERSION:2.0
PRODID:-//Smyrna International Ministry - ECPv4.5.8//NONSGML v1.0//EN
CALSCALE:GREGORIAN
METHOD:PUBLISH
X-WR-CALNAME:Smyrna International Ministry
X-ORIGINAL-URL:http://www.smyrnainternational.com
X-WR-CALDESC:Events for Smyrna International Ministry
BEGIN:VEVENT
DTSTART;TZID=UTC+1:20200119T150000
DTEND;TZID=UTC+1:20200119T170000
DTSTAMP:20260419T221228
CREATED:20191230T113957Z
LAST-MODIFIED:20191230T114031Z
UID:9566-1579446000-1579453200@www.smyrnainternational.com
SUMMARY:Celebration
DESCRIPTION:Sunday Service in English. \nSong\, children’s ministry\, a word from God\, prayer\, mingle and much more! \nPreacher: Kiumbiro M \nTopic: We pray for the Church \n
URL:http://www.smyrnainternational.com/event/celebration-271/
END:VEVENT
END:VCALENDAR