BEGIN:VCALENDAR
VERSION:2.0
PRODID:-//Smyrna International Ministry - ECPv4.5.8//NONSGML v1.0//EN
CALSCALE:GREGORIAN
METHOD:PUBLISH
X-WR-CALNAME:Smyrna International Ministry
X-ORIGINAL-URL:http://www.smyrnainternational.com
X-WR-CALDESC:Events for Smyrna International Ministry
BEGIN:VEVENT
DTSTART;TZID=UTC+1:20170502T173000
DTEND;TZID=UTC+1:20170502T200000
DTSTAMP:20260422T010230
CREATED:20170410T153027Z
LAST-MODIFIED:20170410T153027Z
UID:7190-1493746200-1493755200@www.smyrnainternational.com
SUMMARY:Evangelism
DESCRIPTION:Join us as we head out to the streets of Gothenburg to share the Gospel of Jesus. \nPre-prayer at 17.15 in Smyrnas “Vaxthuset”. \nWe are out in the streets from 18:00-20:00 \n
URL:http://www.smyrnainternational.com/event/evangelism-200/
ORGANIZER;CN="Lidia%20Cueva":MAILTO:cuevalidia@gmail.com
END:VEVENT
END:VCALENDAR