BEGIN:VCALENDAR
VERSION:2.0
PRODID:-//Smyrna International Ministry - ECPv4.5.8//NONSGML v1.0//EN
CALSCALE:GREGORIAN
METHOD:PUBLISH
X-WR-CALNAME:Smyrna International Ministry
X-ORIGINAL-URL:http://www.smyrnainternational.com
X-WR-CALDESC:Events for Smyrna International Ministry
BEGIN:VEVENT
DTSTART;TZID=UTC+1:20170620T173000
DTEND;TZID=UTC+1:20170620T200000
DTSTAMP:20260421T222610
CREATED:20170615T172818Z
LAST-MODIFIED:20170615T172822Z
UID:7506-1497979800-1497988800@www.smyrnainternational.com
SUMMARY:Evangelism
DESCRIPTION:Join us as we head out to the streets of Gothenburg to share the Gospel of Jesus. \nPre-prayer at 17.15 in Smyrnas “Vaxthuset”. \nWe are out in the streets from 18:00-20:00 \n
URL:http://www.smyrnainternational.com/event/evangelism-205/
LOCATION:Smyrnakyrkan\, Haga Kyrkogata 2\, Göteborg\, 41123\, Sweden
ORGANIZER;CN="Lidia%20Cueva":MAILTO:cuevalidia@gmail.com
END:VEVENT
END:VCALENDAR