BEGIN:VCALENDAR
VERSION:2.0
PRODID:-//Smyrna International Ministry - ECPv4.5.8//NONSGML v1.0//EN
CALSCALE:GREGORIAN
METHOD:PUBLISH
X-WR-CALNAME:Smyrna International Ministry
X-ORIGINAL-URL:http://www.smyrnainternational.com
X-WR-CALDESC:Events for Smyrna International Ministry
BEGIN:VEVENT
DTSTART;TZID=UTC+1:20140215T183000
DTEND;TZID=UTC+1:20140215T210000
DTSTAMP:20260422T063756
CREATED:20140205T113423Z
LAST-MODIFIED:20140214T080029Z
UID:1329-1392489000-1392498000@www.smyrnainternational.com
SUMMARY:Game and Movienight
DESCRIPTION:
URL:http://www.smyrnainternational.com/event/game-and-movienight/
LOCATION:Smyrnakyrkan\, Haga Kyrkogata 2\, Göteborg\, 41123\, Sweden
END:VEVENT
END:VCALENDAR