BEGIN:VCALENDAR
VERSION:2.0
PRODID:-//Smyrna International Ministry - ECPv4.5.8//NONSGML v1.0//EN
CALSCALE:GREGORIAN
METHOD:PUBLISH
X-WR-CALNAME:Smyrna International Ministry
X-ORIGINAL-URL:http://www.smyrnainternational.com
X-WR-CALDESC:Events for Smyrna International Ministry
BEGIN:VEVENT
DTSTART;TZID=UTC+1:20191003T173000
DTEND;TZID=UTC+1:20191003T220000
DTSTAMP:20260420T005747
CREATED:20191002T181414Z
LAST-MODIFIED:20191002T181423Z
UID:9375-1570123800-1570140000@www.smyrnainternational.com
SUMMARY:Gothenburg For Jesus
DESCRIPTION:We would like to invite you to join us from the 3-6th of October to meet Gothenburg with the message of the love of Christ. We believe God will fill the streets of our city with salvation\, love\, freedom\, power and restoration. We are inviting all of God’s people to stand with us and go out with an invitation to every congregation in our city to share the gospel on the streets together. \n
URL:http://www.smyrnainternational.com/event/gothenburg-for-jesus/
LOCATION:Kungsgatan 45\, Gothenburg\, Sweden
ATTACH;FMTTYPE=image/jpeg:http://www.smyrnainternational.com/wp-content/uploads/2019/10/Hopeforthisnation.jpg
ORGANIZER;CN="Mark%20Beckenham":MAILTO:mark.beckenham@smyrna.se
END:VEVENT
END:VCALENDAR