BEGIN:VCALENDAR
VERSION:2.0
PRODID:-//Smyrna International Ministry - ECPv4.5.8//NONSGML v1.0//EN
CALSCALE:GREGORIAN
METHOD:PUBLISH
X-WR-CALNAME:Smyrna International Ministry
X-ORIGINAL-URL:http://www.smyrnainternational.com
X-WR-CALDESC:Events for Smyrna International Ministry
BEGIN:VEVENT
DTSTART;TZID=UTC+1:20170530T180000
DTEND;TZID=UTC+1:20170530T210000
DTSTAMP:20260421T233134
CREATED:20170501T184213Z
LAST-MODIFIED:20170501T184213Z
UID:7313-1496167200-1496178000@www.smyrnainternational.com
SUMMARY:Home-group
DESCRIPTION:We get together in different homes every week where fellowship is of central focus.We get to know one another\, enjoy a meal\, share faith and life\, create an environment for growth when we pray and read the Bible together. \nDon´t hesitate\, register by filling in the contact form and join us today! \n
URL:http://www.smyrnainternational.com/event/home-group-22/
END:VEVENT
END:VCALENDAR