BEGIN:VCALENDAR
VERSION:2.0
PRODID:-//Smyrna International Ministry - ECPv4.5.8//NONSGML v1.0//EN
CALSCALE:GREGORIAN
METHOD:PUBLISH
X-WR-CALNAME:Smyrna International Ministry
X-ORIGINAL-URL:http://www.smyrnainternational.com
X-WR-CALDESC:Events for Smyrna International Ministry
BEGIN:VEVENT
DTSTART;TZID=UTC+1:20190418T180000
DTEND;TZID=UTC+1:20190418T210000
DTSTAMP:20260420T120329
CREATED:20190330T225313Z
LAST-MODIFIED:20190330T225313Z
UID:9055-1555610400-1555621200@www.smyrnainternational.com
SUMMARY:Homegroup
DESCRIPTION:We get together in different homes every week where fellowship is of central focus.We get to know one another\, enjoy a meal\, share faith and life\, create an environment for growth when we pray and read the Bible together. \nDon´t hesitate\, register by filling in the contact form and join us today! \n
URL:http://www.smyrnainternational.com/event/homegroup-21/
END:VEVENT
END:VCALENDAR