BEGIN:VCALENDAR
VERSION:2.0
PRODID:-//Smyrna International Ministry - ECPv4.5.8//NONSGML v1.0//EN
CALSCALE:GREGORIAN
METHOD:PUBLISH
X-WR-CALNAME:Smyrna International Ministry
X-ORIGINAL-URL:http://www.smyrnainternational.com
X-WR-CALDESC:Events for Smyrna International Ministry
BEGIN:VEVENT
DTSTART;TZID=UTC+1:20260118T110000
DTEND;TZID=UTC+1:20260118T123000
DTSTAMP:20260425T200856
CREATED:20251204T075929Z
LAST-MODIFIED:20251204T075929Z
UID:12938-1768734000-1768739400@www.smyrnainternational.com
SUMMARY:Joint Church Service: Pray It Forward
DESCRIPTION:
URL:http://www.smyrnainternational.com/event/joint-church-service-pray-forward-2/
END:VEVENT
END:VCALENDAR