BEGIN:VCALENDAR
VERSION:2.0
PRODID:-//Smyrna International Ministry - ECPv4.5.8//NONSGML v1.0//EN
CALSCALE:GREGORIAN
METHOD:PUBLISH
X-WR-CALNAME:Smyrna International Ministry
X-ORIGINAL-URL:http://www.smyrnainternational.com
X-WR-CALDESC:Events for Smyrna International Ministry
BEGIN:VEVENT
DTSTART;TZID=UTC+1:20180312T180000
DTEND;TZID=UTC+1:20180312T193000
DTSTAMP:20260421T065235
CREATED:20180228T193708Z
LAST-MODIFIED:20180228T193708Z
UID:8198-1520877600-1520883000@www.smyrnainternational.com
SUMMARY:Language Café
DESCRIPTION:This is for  you who are learning Swedish and want to practise speaking the language with native speakers. \nWe meet at the Smyrna café… \nWelcome!! \n
URL:http://www.smyrnainternational.com/event/language-cafe-23/
LOCATION:hagakyrkogata 2\, Gothenburg\, Sweden
ORGANIZER;CN="Mark%20Beckenham":MAILTO:mark.beckenham@smyrna.se
END:VEVENT
END:VCALENDAR