BEGIN:VCALENDAR
VERSION:2.0
PRODID:-//Smyrna International Ministry - ECPv4.5.8//NONSGML v1.0//EN
CALSCALE:GREGORIAN
METHOD:PUBLISH
X-WR-CALNAME:Smyrna International Ministry
X-ORIGINAL-URL:http://www.smyrnainternational.com
X-WR-CALDESC:Events for Smyrna International Ministry
BEGIN:VEVENT
DTSTART;TZID=UTC+1:20200128T180000
DTEND;TZID=UTC+1:20200128T190000
DTSTAMP:20260419T205341
CREATED:20200128T195354Z
LAST-MODIFIED:20200128T195354Z
UID:9635-1580234400-1580238000@www.smyrnainternational.com
SUMMARY:Prayer and fasting
DESCRIPTION:
URL:http://www.smyrnainternational.com/event/prayer-and-fasting-11/
LOCATION:Haga Kyrkogata 2\, Göteborg\, 41507\, Sweden
END:VEVENT
END:VCALENDAR