BEGIN:VCALENDAR
VERSION:2.0
PRODID:-//Smyrna International Ministry - ECPv4.5.8//NONSGML v1.0//EN
CALSCALE:GREGORIAN
METHOD:PUBLISH
X-WR-CALNAME:Smyrna International Ministry
X-ORIGINAL-URL:http://www.smyrnainternational.com
X-WR-CALDESC:Events for Smyrna International Ministry
BEGIN:VEVENT
DTSTART;TZID=UTC+1:20200130T180000
DTEND;TZID=UTC+1:20200130T190000
DTSTAMP:20260419T192857
CREATED:20200128T194842Z
LAST-MODIFIED:20200128T194842Z
UID:9627-1580407200-1580410800@www.smyrnainternational.com
SUMMARY:Prayer and fasting
DESCRIPTION:Come join us in a time of prayer and fasting. We have cooperate prayer sessions at 12noon and at 18:00. We also have a daily prayer book that you can get from the church reception or follow us on facebook to get the daily word and prayer focus. \nDon’t hesitate to share anything you hear from God! We are The church! \nGod bless you! \n
URL:http://www.smyrnainternational.com/event/prayer-and-fasting-8/
LOCATION:Haga Kyrkogata 2\, Göteborg\, 41507\, Sweden
END:VEVENT
END:VCALENDAR