BEGIN:VCALENDAR
VERSION:2.0
PRODID:-//Smyrna International Ministry - ECPv4.5.8//NONSGML v1.0//EN
CALSCALE:GREGORIAN
METHOD:PUBLISH
X-WR-CALNAME:Smyrna International Ministry
X-ORIGINAL-URL:http://www.smyrnainternational.com
X-WR-CALDESC:Events for Smyrna International Ministry
BEGIN:VEVENT
DTSTART;TZID=UTC+1:20140214T190000
DTEND;TZID=UTC+1:20140214T203000
DTSTAMP:20260422T080141
CREATED:20140205T113243Z
LAST-MODIFIED:20140206T152154Z
UID:1328-1392404400-1392409800@www.smyrnainternational.com
SUMMARY:Prayer meeting
DESCRIPTION:Every Friday evening we invite you to join us for a time of Praise & Prayer. We take time to pray for relevant prayer requests and also pray for you personally if you so desire. \nWe believe in a God that cares for us and who wants to help and support us in times of need. \n
URL:http://www.smyrnainternational.com/event/prayer-meeting-2/
LOCATION:Smyrnakyrkan\, Haga Kyrkogata 2\, Göteborg\, 41123\, Sweden
END:VEVENT
END:VCALENDAR