BEGIN:VCALENDAR
VERSION:2.0
PRODID:-//Smyrna International Ministry - ECPv4.5.8//NONSGML v1.0//EN
CALSCALE:GREGORIAN
METHOD:PUBLISH
X-WR-CALNAME:Smyrna International Ministry
X-ORIGINAL-URL:http://www.smyrnainternational.com
X-WR-CALDESC:Events for Smyrna International Ministry
BEGIN:VEVENT
DTSTART;TZID=UTC+1:20190628T190000
DTEND;TZID=UTC+1:20190628T203000
DTSTAMP:20260420T064740
CREATED:20190523T180623Z
LAST-MODIFIED:20190523T180628Z
UID:9130-1561748400-1561753800@www.smyrnainternational.com
SUMMARY:Prayer Time
DESCRIPTION:A time of prayer for yourself\, family\, friends and the world at large. \nCome and stand in the gap. \nIf you have any prayer requests you can email them as well to: \nupperroomsmyrna@gmail.com \n
URL:http://www.smyrnainternational.com/event/prayer-time-128/
END:VEVENT
END:VCALENDAR