BEGIN:VCALENDAR
VERSION:2.0
PRODID:-//Smyrna International Ministry - ECPv4.5.8//NONSGML v1.0//EN
CALSCALE:GREGORIAN
METHOD:PUBLISH
X-WR-CALNAME:Smyrna International Ministry
X-ORIGINAL-URL:http://www.smyrnainternational.com
X-WR-CALDESC:Events for Smyrna International Ministry
BEGIN:VEVENT
DTSTART;TZID=UTC+1:20191011T180000
DTEND;TZID=UTC+1:20191011T193000
DTSTAMP:20260420T005055
CREATED:20191002T182716Z
LAST-MODIFIED:20191002T182716Z
UID:9394-1570816800-1570822200@www.smyrnainternational.com
SUMMARY:Prayer Time
DESCRIPTION:A time of prayer for yourself\, family\, friends and the world at large. \nCome and stand in the gap. \nIf you have any prayer requests you can email them as well to: \nupperroomsmyrna@gmail.com \n
URL:http://www.smyrnainternational.com/event/prayer-time-141/
LOCATION:Smyrnakyrkan\, Haga Kyrkogata 2\, Göteborg\, 41123\, Sweden
END:VEVENT
END:VCALENDAR