BEGIN:VCALENDAR
VERSION:2.0
PRODID:-//Smyrna International Ministry - ECPv4.5.8//NONSGML v1.0//EN
CALSCALE:GREGORIAN
METHOD:PUBLISH
X-WR-CALNAME:Smyrna International Ministry
X-ORIGINAL-URL:http://www.smyrnainternational.com
X-WR-CALDESC:Events for Smyrna International Ministry
BEGIN:VEVENT
DTSTART;TZID=UTC+1:20191206T180000
DTEND;TZID=UTC+1:20191206T193000
DTSTAMP:20260419T233155
CREATED:20191121T210404Z
LAST-MODIFIED:20191121T210404Z
UID:9478-1575655200-1575660600@www.smyrnainternational.com
SUMMARY:Prayer Time
DESCRIPTION:A time of prayer for yourself\, family\, friends and the world at large. \nCome and stand in the gap. \nIf you have any prayer requests you can email them as well to: \nupperroomsmyrna@gmail.com \n
URL:http://www.smyrnainternational.com/event/prayer-time-147/
LOCATION:Smyrnakyrkan\, Haga Kyrkogata 2\, Göteborg\, 41123\, Sweden
END:VEVENT
END:VCALENDAR