BEGIN:VCALENDAR
VERSION:2.0
PRODID:-//Smyrna International Ministry - ECPv4.5.8//NONSGML v1.0//EN
CALSCALE:GREGORIAN
METHOD:PUBLISH
X-WR-CALNAME:Smyrna International Ministry
X-ORIGINAL-URL:http://www.smyrnainternational.com
X-WR-CALDESC:Events for Smyrna International Ministry
BEGIN:VEVENT
DTSTART;TZID=UTC+1:20180316T190000
DTEND;TZID=UTC+1:20180316T203000
DTSTAMP:20260421T065441
CREATED:20180228T193105Z
LAST-MODIFIED:20180228T193105Z
UID:8184-1521226800-1521232200@www.smyrnainternational.com
SUMMARY:Prayer Time
DESCRIPTION:A time of prayer for yourself\, family\, friends and the world at large. \nCome and stand in the gap. \nIf you have any prayer requests you can email them as well to: \nupperroomsmyrna@gmail.com \n
URL:http://www.smyrnainternational.com/event/prayer-time-80/
LOCATION:Haga Kyrkogata 2\, Göteborg\, 41507\, Sweden
END:VEVENT
END:VCALENDAR