BEGIN:VCALENDAR
VERSION:2.0
PRODID:-//Smyrna International Ministry - ECPv4.5.8//NONSGML v1.0//EN
CALSCALE:GREGORIAN
METHOD:PUBLISH
X-WR-CALNAME:Smyrna International Ministry
X-ORIGINAL-URL:http://www.smyrnainternational.com
X-WR-CALDESC:Events for Smyrna International Ministry
BEGIN:VEVENT
DTSTART;TZID=UTC+1:20190216T170000
DTEND;TZID=UTC+1:20190216T220000
DTSTAMP:20260420T152711
CREATED:20190204T163739Z
LAST-MODIFIED:20190204T163749Z
UID:8925-1550336400-1550354400@www.smyrnainternational.com
SUMMARY:The Love Fest
DESCRIPTION:Smyrna Women International Ministry (SWIM) welcomes you to a dinner with a message entitled\, “the ❤️ fest”.\nWe will encounter The Father’s ❤️ as we embark on our 2019 journey! \n1John 4:7-19\nVerse 9\n“This is how God showed his love among us: He sent his one and only Son into the world THAT WE MIGHT LIVE THROUGH HIM .” \n\nZephaniah 3:17\n“The LORD your God in your midst\,\nThe Mighty One\, will save;\nHe will rejoice over you with gladness\, He will quiet you with His love\,\nHe will rejoice over you with singing.”” \nWho: All women are welcome\nTime: 17-22\nDress code: Dinner dress glam\nCost: Free!!!\nRegister: before Feb 14th via email to smyrnainternationalchurch@gmail.com with ‘name and number’. \n\n
URL:http://www.smyrnainternational.com/event/the-love-fest/
END:VEVENT
END:VCALENDAR